BEGIN:VCALENDAR
VERSION:2.0
PRODID:-//Tara Brach - ECPv6.15.20//NONSGML v1.0//EN
CALSCALE:GREGORIAN
METHOD:PUBLISH
X-WR-CALNAME:Tara Brach
X-ORIGINAL-URL:https://www.tarabrach.com
X-WR-CALDESC:Events for Tara Brach
REFRESH-INTERVAL;VALUE=DURATION:PT1H
X-Robots-Tag:noindex
X-PUBLISHED-TTL:PT1H
BEGIN:VTIMEZONE
TZID:America/New_York
BEGIN:DAYLIGHT
TZOFFSETFROM:-0500
TZOFFSETTO:-0400
TZNAME:EDT
DTSTART:20230312T070000
END:DAYLIGHT
BEGIN:STANDARD
TZOFFSETFROM:-0400
TZOFFSETTO:-0500
TZNAME:EST
DTSTART:20231105T060000
END:STANDARD
BEGIN:DAYLIGHT
TZOFFSETFROM:-0500
TZOFFSETTO:-0400
TZNAME:EDT
DTSTART:20240310T070000
END:DAYLIGHT
BEGIN:STANDARD
TZOFFSETFROM:-0400
TZOFFSETTO:-0500
TZNAME:EST
DTSTART:20241103T060000
END:STANDARD
BEGIN:DAYLIGHT
TZOFFSETFROM:-0500
TZOFFSETTO:-0400
TZNAME:EDT
DTSTART:20250309T070000
END:DAYLIGHT
BEGIN:STANDARD
TZOFFSETFROM:-0400
TZOFFSETTO:-0500
TZNAME:EST
DTSTART:20251102T060000
END:STANDARD
END:VTIMEZONE
BEGIN:VEVENT
DTSTART;TZID=America/New_York:20240830T130000
DTEND;TZID=America/New_York:20240830T140000
DTSTAMP:20260419T153742
CREATED:20240826T221804Z
LAST-MODIFIED:20240826T224819Z
UID:10000282-1725022800-1725026400@www.tarabrach.com
SUMMARY:[Free Online Event]  Awakening Your Everyday Bodhisattva
DESCRIPTION:  \n\n \nAwakening Your Everyday Bodhisattva\nTara Brach\, Reggie Hubbard & Jack Kornfield\nLive Online Event\nAugust 30\, 2024 @ 1:00 PM ET/US\nBodhisattva is the Sanskrit word for someone devoted to awakening and acting for the benefit of all living beings. If you feel called to ease the suffering or serve others on a larger scale\, you’re invited to explore the path of the bodhisattva with Tara Brach\, Jack Kornfield\, and special guest teacher Reggie Hubbard. \nJoin us and learn how to awaken the everyday bodhisattva within by using evidence-based mindfulness practices to ground yourself and tune into the steady wisdom of your heart. Through cultivating this sacred silence\, you’ll find inspiration that supports you in serving others in more empowered and transformative ways. \nLearn More and Register…
URL:https://www.tarabrach.com/calendar/awakening-everyday-bodhisattva/
LOCATION:Virtual – Online event\, online
CATEGORIES:All events,Featured,Online
ATTACH;FMTTYPE=image/png:https://www.tarabrach.com/wp-content/uploads/2024/08/Awakening-Bodhisattva.png
END:VEVENT
END:VCALENDAR