BEGIN:VCALENDAR
VERSION:2.0
PRODID:-//Tara Brach - ECPv6.15.20//NONSGML v1.0//EN
CALSCALE:GREGORIAN
METHOD:PUBLISH
X-WR-CALNAME:Tara Brach
X-ORIGINAL-URL:https://www.tarabrach.com
X-WR-CALDESC:Events for Tara Brach
REFRESH-INTERVAL;VALUE=DURATION:PT1H
X-Robots-Tag:noindex
X-PUBLISHED-TTL:PT1H
BEGIN:VTIMEZONE
TZID:America/New_York
BEGIN:DAYLIGHT
TZOFFSETFROM:-0500
TZOFFSETTO:-0400
TZNAME:EDT
DTSTART:20230312T070000
END:DAYLIGHT
BEGIN:STANDARD
TZOFFSETFROM:-0400
TZOFFSETTO:-0500
TZNAME:EST
DTSTART:20231105T060000
END:STANDARD
BEGIN:DAYLIGHT
TZOFFSETFROM:-0500
TZOFFSETTO:-0400
TZNAME:EDT
DTSTART:20240310T070000
END:DAYLIGHT
BEGIN:STANDARD
TZOFFSETFROM:-0400
TZOFFSETTO:-0500
TZNAME:EST
DTSTART:20241103T060000
END:STANDARD
BEGIN:DAYLIGHT
TZOFFSETFROM:-0500
TZOFFSETTO:-0400
TZNAME:EDT
DTSTART:20250309T070000
END:DAYLIGHT
BEGIN:STANDARD
TZOFFSETFROM:-0400
TZOFFSETTO:-0500
TZNAME:EST
DTSTART:20251102T060000
END:STANDARD
END:VTIMEZONE
BEGIN:VEVENT
DTSTART;TZID=America/New_York:20241123T130000
DTEND;TZID=America/New_York:20241123T140000
DTSTAMP:20260420T032652
CREATED:20241108T190729Z
LAST-MODIFIED:20241108T190729Z
UID:10000285-1732366800-1732370400@www.tarabrach.com
SUMMARY:[Free Online Event] Post-Election Heart Wisdom: Holding What is Unfolding
DESCRIPTION:  \n\n \nPost-Election Heart Wisdom: Holding What is Unfolding\n Tara Brach\, Reggie Hubbard\, James Baraz & Mushim Ikeda\nFree Online Event\nNovember 23\, 2024 @ 1:00 PM ET/US\nThese are tumultuous\, divisive\, and uncertain times\, and we have never needed one another more than we do now.  \nPlease join Tara\, along with Reggie Hubbard\, James Baraz\, Mushim Ikeda\, and a diverse community of fellow practitioners for a free online gathering: Post-Election Heart Wisdom: Holding What is Unfolding. Together\, we’ll explore how meditation can provide essential tools for navigating and serving our current world with compassion — as humans and as engaged citizens. Mind Our Democracy hosts will offer brief remarks and guide meditations before shifting to small groups\, where we can practice being present and bearing witness to others.   \nLearn More & Reserve Your Spot…
URL:https://www.tarabrach.com/calendar/post-election-heart-wisdom/
LOCATION:Virtual – Online event\, online
CATEGORIES:All events,Featured,Online
ATTACH;FMTTYPE=image/png:https://www.tarabrach.com/wp-content/uploads/2024/11/Untitled-design-10.png
END:VEVENT
END:VCALENDAR