BEGIN:VCALENDAR
VERSION:2.0
PRODID:-//Tara Brach - ECPv6.15.20//NONSGML v1.0//EN
CALSCALE:GREGORIAN
METHOD:PUBLISH
X-WR-CALNAME:Tara Brach
X-ORIGINAL-URL:https://www.tarabrach.com
X-WR-CALDESC:Events for Tara Brach
REFRESH-INTERVAL;VALUE=DURATION:PT1H
X-Robots-Tag:noindex
X-PUBLISHED-TTL:PT1H
BEGIN:VTIMEZONE
TZID:America/New_York
BEGIN:DAYLIGHT
TZOFFSETFROM:-0500
TZOFFSETTO:-0400
TZNAME:EDT
DTSTART:20250309T070000
END:DAYLIGHT
BEGIN:STANDARD
TZOFFSETFROM:-0400
TZOFFSETTO:-0500
TZNAME:EST
DTSTART:20251102T060000
END:STANDARD
BEGIN:DAYLIGHT
TZOFFSETFROM:-0500
TZOFFSETTO:-0400
TZNAME:EDT
DTSTART:20260308T070000
END:DAYLIGHT
BEGIN:STANDARD
TZOFFSETFROM:-0400
TZOFFSETTO:-0500
TZNAME:EST
DTSTART:20261101T060000
END:STANDARD
BEGIN:DAYLIGHT
TZOFFSETFROM:-0500
TZOFFSETTO:-0400
TZNAME:EDT
DTSTART:20270314T070000
END:DAYLIGHT
BEGIN:STANDARD
TZOFFSETFROM:-0400
TZOFFSETTO:-0500
TZNAME:EST
DTSTART:20271107T060000
END:STANDARD
END:VTIMEZONE
BEGIN:VEVENT
DTSTART;TZID=America/New_York:20260606T100000
DTEND;TZID=America/New_York:20260606T140000
DTSTAMP:20260423T073751
CREATED:20260423T003105Z
LAST-MODIFIED:20260423T003433Z
UID:10000648-1780740000-1780754400@www.tarabrach.com
SUMMARY:All Souls NYC Mindfulness\, Meditation & Buddhism 10th Anniversary Celebration
DESCRIPTION:  \n\n \n\n\n\n\n\n\nAll Souls NYC Mindfulness\, Meditation & Buddhism 10th Anniversary CelebrationJune 6th | 10:00 AM – 2:00 PM1157 Lexington Avenue\, New York\, NY 10075In-Person or Online \n\n\n\n\n\nA Decade of Dharma— MMB 10th Anniversary Celebration!The Mindfulness | Meditation | Buddhism program at All Souls NYC has blossomed over the last ten years into a vibrant community of spiritual learning and practice. We have hosted dozens of dharma teachers\, online and in-person retreats\, sound baths\, and more. We will gather on Saturday June 6th\, to celebrate ten years of the MMB program. This event is by donation and is open to the public – registration is required \nRegister Here to Attend In-Person \nRegister Here to Attend via Livestream \n\n\n\nWe are honored to host renowned dharma teacher Tara Brach for an opening talk\, followed by reflections on the arc of the program\, gratitude to our many teachers and volunteers\, and a reception in the vestibule. The celebration will conclude with a sound bath in the Sanctuary\, offered by flutist Jacob Rudin. Your registration helps us plan ahead for the event. Thank you for your presence and your practice! If being in person is a barrier\, Tara’s talk and the celebration of our teachers and volunteers will be livestreamed.We hope you will consider making a donation to support our program. The cost of the event per person is approximately $40. You are welcome to attend in any case\, no matter what you can give\, the event is open to all. \n\n\n\nIf you have questions or need help registering\, please contact All Souls NYC at info@allsoulsnyc.org
URL:https://www.tarabrach.com/calendar/all-souls-nyc-mmb/
CATEGORIES:All events,In-Person,Online
ATTACH;FMTTYPE=image/jpeg:https://www.tarabrach.com/wp-content/uploads/2026/04/Untitled-design.jpg
END:VEVENT
END:VCALENDAR