BEGIN:VCALENDAR
VERSION:2.0
PRODID:-//Tara Brach - ECPv6.15.20//NONSGML v1.0//EN
CALSCALE:GREGORIAN
METHOD:PUBLISH
X-WR-CALNAME:Tara Brach
X-ORIGINAL-URL:https://www.tarabrach.com
X-WR-CALDESC:Events for Tara Brach
REFRESH-INTERVAL;VALUE=DURATION:PT1H
X-Robots-Tag:noindex
X-PUBLISHED-TTL:PT1H
BEGIN:VTIMEZONE
TZID:America/New_York
BEGIN:DAYLIGHT
TZOFFSETFROM:-0500
TZOFFSETTO:-0400
TZNAME:EDT
DTSTART:20220313T070000
END:DAYLIGHT
BEGIN:STANDARD
TZOFFSETFROM:-0400
TZOFFSETTO:-0500
TZNAME:EST
DTSTART:20221106T060000
END:STANDARD
BEGIN:DAYLIGHT
TZOFFSETFROM:-0500
TZOFFSETTO:-0400
TZNAME:EDT
DTSTART:20230312T070000
END:DAYLIGHT
BEGIN:STANDARD
TZOFFSETFROM:-0400
TZOFFSETTO:-0500
TZNAME:EST
DTSTART:20231105T060000
END:STANDARD
BEGIN:DAYLIGHT
TZOFFSETFROM:-0500
TZOFFSETTO:-0400
TZNAME:EDT
DTSTART:20240310T070000
END:DAYLIGHT
BEGIN:STANDARD
TZOFFSETFROM:-0400
TZOFFSETTO:-0500
TZNAME:EST
DTSTART:20241103T060000
END:STANDARD
END:VTIMEZONE
BEGIN:VEVENT
DTSTART;TZID=America/New_York:20230402T110000
DTEND;TZID=America/New_York:20230402T123000
DTSTAMP:20260419T171012
CREATED:20230314T190536Z
LAST-MODIFIED:20230401T150112Z
UID:10000115-1680433200-1680438600@www.tarabrach.com
SUMMARY:IMCW Second Sunday Dharma Series with Tara Brach & Jennifer Stanley
DESCRIPTION: \nIMCW Second Sunday Dharma Series\, with Tara Brach & Trisha Stotler\nSunday\, April 2nd @ 11:00 AM (EDT)\nAs fear and instability in the outer world continue to grow\, we often contract into self-protection mode\, becoming increasingly divided from each other and ultimately from ourselves. Mistrust\, blame\, loneliness\, and just not feeling at home in our own lives are symptoms of this sense of separation. Join Tara Brach and Jennifer Stanley for the Second Sunday Dharma Series and learn ways that we can restore this connection\, both inwardly and with our world. \nJennifer Stanley will be the IMCW host for this event. \nReserve Your Spot \nSecond Sunday Dharma Series: IMCW has invited a series of world-renowned teachers to join us for an informal virtual gathering\, where they share what is on their mind and alive in their personal practice. \nThis special series is being offered in the spirit of generosity. You must register for each session in advance\, and will be asked to make a donation that aligns with your circumstances. No one will be turned away for financial reasons. \nEvery person registered will receive a link to the recording a couple of days after the event (which will be available for 90 days). If you are not able to attend but would like the recording\, please register so that the link to the recording can be emailed to you. \nWe appreciate your generosity. Proceeds from these events will support a variety of IMCW programs\, including our scholarship and Larry Yang BIPOC Fund. \nThis event has American Sign Language (ASL) interpretation. \n 
URL:https://www.tarabrach.com/calendar/imcw-second-sunday-dharma-series/
LOCATION:online training
CATEGORIES:All events,Online
ATTACH;FMTTYPE=image/png:https://www.tarabrach.com/wp-content/uploads/2023/03/Second-Sunday-Dharma-Series-2.png
END:VEVENT
BEGIN:VEVENT
DTSTART;VALUE=DATE:20230419
DTEND;VALUE=DATE:20230420
DTSTAMP:20260419T171012
CREATED:20230223T050007Z
LAST-MODIFIED:20230223T151642Z
UID:10000113-1681862400-1681948799@www.tarabrach.com
SUMMARY:The Power of Awareness: 7-Week Online Course
DESCRIPTION:  \n\n\n\nCourse begins on April 19\, 2023 \nThe Power of Awareness with Tara Brach & Jack Kornfield is a 7-week in-depth mindfulness training program created to help you take the next step in your personal and spiritual evolution. \n\n\nRegister Now\n\n  \nYou’ll learn valuable mindfulness skills and tools\, develop a regular meditation practice\, receive community-based mentoring throughout the course\, and obtain a Certificate of Completion from the University of California\, Berkeley’s Greater Good Science Center and the Awareness Training Institute—all while you experience how the practices of mindfulness and compassion can transform your life and the world.** \n\n\n\n  \nThe present moment is the place from which your entire reality is created. Your relationships\, home life\, work\, and experiences all spring forth from your thoughts\, feelings\, and actions that occur in a string of infinite moments. However\, most of us live our lives running from task to task\, distraction to distraction. We are tossed around by the ups and downs of our emotions and the events of our lives and accept this as “normal.” \n\nAnd even though we have the intention to take time for ourselves and to meditate\, these often get put at the bottom of our lists because life simply takes over … but it doesn’t have to be this way. \nWhen you understand the transformative\, healing power of mindful awareness\, you dramatically shift the experience of your life\, the people in it\, and the world itself. \nAre you open to fully living in a state of peace and joy\, moment to moment? Are you ready to feel truly vibrant and alive and let go of the negativity and blockages that have held you back? Are you ready to create the life and existence you know is possible and waiting for you? \nIf you answered yes to any of these questions\, we invite you to experience The Power of Awareness\, an in-depth mindfulness training program created to help you take the next step in your personal and spiritual evolution. \nWhen You Enroll in The Power of Awareness\, You’ll Receive: \n\n26 Video Trainings – Jack Kornfield and Tara Brach will guide you through weekly videos focused on mindfulness concepts\, practices\, and instructions\nCommunity Mentoring – Be part of an ongoing online community mentoring group and join weekly community mentoring calls\, facilitated by experienced mentors\nLifetime Access – Receive lifetime access to all video trainings\, guided meditations\, workbooks\, and bonus materials—the entire course is yours to keep forever.\nCertificate of Completion – Receive a Certificate from the University of California\, Berkeley’s Greater Good Science Center and the Awareness Training Institute.\n\n\n  \nFind out more about The Power of Awareness with this FREE 3-part video workshop. For questions about this program\, contact Sounds True at support@soundstrue.com **This course is a key pre-requisite for the Mindfulness Meditation Teacher Certification Program. Learn More…
URL:https://www.tarabrach.com/calendar/the-power-of-awareness-7-week-online-course/
LOCATION:online training
CATEGORIES:All events,Online
ATTACH;FMTTYPE=image/jpeg:https://www.tarabrach.com/wp-content/uploads/2022/03/PowerofAwareness.jpg
END:VEVENT
BEGIN:VEVENT
DTSTART;TZID=America/New_York:20230424T200000
DTEND;TZID=America/New_York:20230424T210000
DTSTAMP:20260419T171012
CREATED:20230415T174419Z
LAST-MODIFIED:20230418T210235Z
UID:10000206-1682366400-1682370000@www.tarabrach.com
SUMMARY:Do You Have Spiritual Friends? FREE Webinar with Tara Brach\, Jack Kornfield and Tami Simon
DESCRIPTION:  \n\n \nDo You Have Spiritual Friends? The Joy and Nourishment that Comes from Fellowship on the Path\nFREE WEBINAR with Tara Brach\, Jack Kornfield and Tami Simon\nApril 24\, 2023 @ 8:00 PM ET / 5:00 PM PT\n  \nDo you have spiritual friends? The secret ingredient of a full\, happy life is the companionship of kindred spirits. We need each other to learn\, grow\, awaken\, and experience true joy. Please join us for this FREE Webinar with Tara Brach\, Jack Kornfield and Sounds True Founder & CEO Tami Simon. \nLearn More & Register \nHere’s what we’ll explore: \n\n\nThe role of spiritual friendship in the face of challenges and difficulties\, and why we each need to feel seen and heard in order to flourish \n\n\nHow to find common ground with people who at first appear to be very different from us \n\n\nThe epidemic of loneliness in our time and what we each can do about it \n\n\nFinding spiritual fellowship in unlikely places\, including online \n\n\nWhat is required from us to share in a vulnerable way with other people \n\nHow spiritual companionship can mirror our innate goodness of heart\n\n 
URL:https://www.tarabrach.com/calendar/spiritual-friends-webinar/
LOCATION:online training
CATEGORIES:All events,Online
ATTACH;FMTTYPE=image/png:https://www.tarabrach.com/wp-content/uploads/2023/04/Spiritual-Friends-Webinar-686-×-386-px.png
ORGANIZER;CN="Sounds True":MAILTO:support@soundstrue.com
END:VEVENT
END:VCALENDAR